BEGIN:VCALENDAR
VERSION:2.0
PRODID:-//Agenda de Dharana - ECPv6.13.2//NONSGML v1.0//EN
CALSCALE:GREGORIAN
METHOD:PUBLISH
X-ORIGINAL-URL:https://agenda.dharana.org
X-WR-CALDESC:Eventos para Agenda de Dharana
REFRESH-INTERVAL;VALUE=DURATION:PT1H
X-Robots-Tag:noindex
X-PUBLISHED-TTL:PT1H
BEGIN:VTIMEZONE
TZID:Europe/Madrid
BEGIN:DAYLIGHT
TZOFFSETFROM:+0100
TZOFFSETTO:+0200
TZNAME:CEST
DTSTART:20260329T010000
END:DAYLIGHT
BEGIN:STANDARD
TZOFFSETFROM:+0200
TZOFFSETTO:+0100
TZNAME:CET
DTSTART:20261025T010000
END:STANDARD
END:VTIMEZONE
BEGIN:VEVENT
DTSTART;TZID=Europe/Madrid:20260430T200000
DTEND;TZID=Europe/Madrid:20260430T220000
DTSTAMP:20260421T094837
CREATED:20260416T073807Z
LAST-MODIFIED:20260416T073807Z
UID:26558-1777579200-1777586400@agenda.dharana.org
SUMMARY:Presentación del libro "Canto dende Viana"
DESCRIPTION:La presentación en Pobra do Caramiñal será el jueves 30 de abril\, a las 20 h en el salón de actos de la Biblioteca Municipal\nEstarán José Carlos Ulloa(poeta lucense) y José Luis Durán\, acompañados por autoridades municipales(pendiente de confirmar el alcalde y la concejala de cultura)
URL:https://agenda.dharana.org/evento/presentacion-del-libro-canto-dende-viana/
CATEGORIES:Presentación de Libro
ATTACH;FMTTYPE=image/jpeg:https://agenda.dharana.org/wp-content/uploads/sites/7/2026/04/PHOTO-2026-04-15-17-53-49.jpg
END:VEVENT
BEGIN:VEVENT
DTSTART;TZID=Europe/Madrid:20260522T190000
DTEND;TZID=Europe/Madrid:20260522T210000
DTSTAMP:20260421T094837
CREATED:20260416T073149Z
LAST-MODIFIED:20260416T073343Z
UID:26553-1779476400-1779483600@agenda.dharana.org
SUMMARY:Presentación del libro "En un lugar entre la Vida y la Muerte"
DESCRIPTION:¿Alguna vez has sentido cosas que no sabes explicar? \nEl libro «En un lugar entre la Vida y la Muerte» se volverá a presentar en Guadalajara\, en el espacio cultural y librería Mareta. ¡Os esperamos!
URL:https://agenda.dharana.org/evento/presentacion-del-libro-3/
LOCATION:Librería Mareta\, Plazuela de Don Pedro\, 1\,\, Guadalajara\, Guadalajara\, 19001\, Spain
CATEGORIES:Presentación de Libro
ATTACH;FMTTYPE=image/jpeg:https://agenda.dharana.org/wp-content/uploads/sites/7/2026/04/PORTADA-FINAL-VIDA-Y-MUERTE-1.jpg
END:VEVENT
END:VCALENDAR